BEGIN:VCALENDAR
VERSION:2.0
PRODID:SchoolNow
CALSCALE:GREGORIAN
BEGIN:VEVENT
UID:82804cf4-9728-11f0-82c6-0affe5fb5e8f
DTSTAMP:20250921T202109Z
SUMMARY:CDD Board Meeting - Sept. 2026
LOCATION:Greyhawk Landing Clubhouse\, 12350 Mulberry Avenue Bradenton\, FL 
 34212\, United States
URL;VALUE=URI:https://www.greyhawkcdd.org/calendar/8650098/cdd-board-meetin
 g-sept-2026
DTSTART:20260924T220000Z
DTEND:20260925T000000Z
END:VEVENT
END:VCALENDAR
