BEGIN:VCALENDAR
VERSION:2.0
PRODID:SchoolNow
CALSCALE:GREGORIAN
BEGIN:VEVENT
UID:78a459dc-9728-11f0-8c80-0e2a0f17729d
DTSTAMP:20250921T202118Z
SUMMARY:CDD Board Meeting - Aug. 2026
LOCATION:Greyhawk Landing Clubhouse\, 12350 Mulberry Avenue Bradenton\, FL 
 34212\, United States
URL;VALUE=URI:https://www.greyhawkcdd.org/calendar/8650097/cdd-board-meetin
 g-aug-2026
DTSTART:20260819T213000Z
DTEND:20260819T233000Z
END:VEVENT
END:VCALENDAR
