BEGIN:VCALENDAR
VERSION:2.0
PRODID:SchoolNow
CALSCALE:GREGORIAN
BEGIN:VEVENT
UID:709ac58c-9728-11f0-8295-0a58a9feac02
DTSTAMP:20250921T202039Z
SUMMARY:CDD Board Meeting - Jul. 2026
LOCATION:Greyhawk Landing Clubhouse\, 12350 Mulberry Avenue Bradenton\, FL 
 34212\, United States
URL;VALUE=URI:https://www.greyhawkcdd.org/calendar/8650096/cdd-board-meetin
 g-jul-2026
DTSTART:20260723T220000Z
DTEND:20260724T000000Z
END:VEVENT
END:VCALENDAR
