BEGIN:VCALENDAR
VERSION:2.0
PRODID:SchoolNow
CALSCALE:GREGORIAN
BEGIN:VEVENT
UID:66e91caa-9728-11f0-853a-0affe5fb5e8f
DTSTAMP:20250921T202022Z
SUMMARY:CDD Board Meeting - Jun. 2026
LOCATION:Greyhawk Landing Clubhouse\, 12350 Mulberry Avenue Bradenton\, FL 
 34212\, United States
URL;VALUE=URI:https://www.greyhawkcdd.org/calendar/8650095/cdd-board-meetin
 g-jun-2026
DTSTART:20260625T220000Z
DTEND:20260626T000000Z
END:VEVENT
END:VCALENDAR
