BEGIN:VCALENDAR
VERSION:2.0
PRODID:SchoolNow
CALSCALE:GREGORIAN
BEGIN:VEVENT
UID:5dc92de0-9728-11f0-8853-0a58a9feac02
DTSTAMP:20250921T202007Z
SUMMARY:CDD Board Meeting - May 2026
LOCATION:Greyhawk Landing Clubhouse\, 12350 Mulberry Avenue Bradenton\, FL 
 34212\, United States
URL;VALUE=URI:https://www.greyhawkcdd.org/calendar/8650094/cdd-board-meetin
 g-may-2026
DTSTART:20260521T220000Z
DTEND:20260522T000000Z
END:VEVENT
END:VCALENDAR
