BEGIN:VCALENDAR
VERSION:2.0
PRODID:SchoolNow
CALSCALE:GREGORIAN
BEGIN:VEVENT
UID:d478bc9a-a90c-11ef-9b83-0e8bb9ef75f3
DTSTAMP:20241205T210442Z
SUMMARY:CDD Board Meeting - Dec. 2024 - Rescheduled from December 19\, 2024
LOCATION:Greyhawk Landing Clubhouse\, 12350 Mulberry Avenue Bradenton\, FL 
 34212\, United States
URL;VALUE=URI:https://www.greyhawkcdd.org/calendar/7064074/cdd-board-meetin
 g-sept-2021-clone-clone-clone-clone-clone-clone-clone-clone-clone-clone-cl
 one-clone-clone-clone-clone-clone-clone-clone-clone-clone-clone-clone-clon
 e-clone-clone-clone-clone-clone-clone-clone-clone-clone-clone-clone-clone-
 clone
DTSTART:20241212T230000Z
DTEND:20241213T010000Z
ATTACH;FILENAME=2024-12-12 - Greyhawk Landing CDD - Agenda.pdf;FMTTYPE=appl
 ication/pdf:https://campussuite-storage.s3.amazonaws.com/prod/1558866/cd6b
 4858-ea96-11e9-8f58-0a20d2c7fac4/2887301/4c80e166-b32d-11ef-9af1-02cdc1784
 0c5/file/2024-12-12 - Greyhawk Landing CDD - Agenda.pdf
END:VEVENT
END:VCALENDAR
