BEGIN:VCALENDAR
VERSION:2.0
PRODID:SchoolNow
CALSCALE:GREGORIAN
BEGIN:VEVENT
UID:e5ed279c-7b56-11ef-91a8-0a58a9feac02
DTSTAMP:20241007T130437Z
SUMMARY:Rescheduled - CDD Board Meeting - October 2024 - Canceled
LOCATION:Greyhawk Landing Clubhouse\, 12350 Mulberry Avenue Bradenton\, FL 
 34212\, United States
URL;VALUE=URI:https://www.greyhawkcdd.org/calendar/6688994/cdd-board-meetin
 g-sept-2021-clone-clone-clone-clone-clone-clone-clone-clone-clone-clone-cl
 one-clone-clone-clone-clone-clone-clone-clone-clone-clone-clone-clone-clon
 e-clone-clone-clone-clone-clone-clone-clone-clone-clone-clone
DTSTART:20241010T220000Z
DTEND:20241011T000000Z
ATTACH;FILENAME=2024-10-10 - Greyhawk Landing CDD - Notice of Cancellation 
 of BOS Meeting.pdf;FMTTYPE=application/pdf:https://campussuite-storage.s3.
 amazonaws.com/prod/1558866/cd6b4858-ea96-11e9-8f58-0a20d2c7fac4/2858431/a4
 64acc8-84ac-11ef-8112-0a58a9feac02/file/2024-10-10 - Greyhawk Landing CDD 
 - Notice of Cancellation of BOS Meeting.pdf
END:VEVENT
END:VCALENDAR
