BEGIN:VCALENDAR
VERSION:2.0
PRODID:SchoolNow
CALSCALE:GREGORIAN
BEGIN:VEVENT
UID:00d00528-6b9b-11ef-b84d-02fed027778b
DTSTAMP:20241122T200251Z
SUMMARY:CDD Board Meeting - Dec. 2024 - Rescheduled to December 12\, 2024
LOCATION:Greyhawk Landing Clubhouse\, 12350 Mulberry Avenue Bradenton\, FL 
 34212\, United States
URL;VALUE=URI:https://www.greyhawkcdd.org/calendar/6531721/cdd-board-meetin
 g-sept-2021-clone-clone-clone-clone-clone-clone-clone-clone-clone-clone-cl
 one-clone-clone-clone-clone-clone-clone-clone-clone-clone-clone-clone-clon
 e-clone-clone-clone-clone-clone-clone-clone-clone-clone-clone-clone-clone
DTSTART:20241219T230000Z
DTEND:20241220T010000Z
END:VEVENT
END:VCALENDAR
