BEGIN:VCALENDAR
VERSION:2.0
PRODID:SchoolNow
CALSCALE:GREGORIAN
BEGIN:VEVENT
UID:f2c5092e-6b9a-11ef-8847-0afffc302a67
DTSTAMP:20241113T210155Z
SUMMARY:CDD Board Meeting - Nov. 2024
LOCATION:Greyhawk Landing Clubhouse\, 12350 Mulberry Avenue Bradenton\, FL 
 34212\, United States
URL;VALUE=URI:https://www.greyhawkcdd.org/calendar/6531720/cdd-board-meetin
 g-sept-2021-clone-clone-clone-clone-clone-clone-clone-clone-clone-clone-cl
 one-clone-clone-clone-clone-clone-clone-clone-clone-clone-clone-clone-clon
 e-clone-clone-clone-clone-clone-clone-clone-clone-clone-clone-clone
DTSTART:20241121T230000Z
DTEND:20241122T010000Z
ATTACH;FILENAME=2024-11-21 - Greyhawk Landing CDD - Agenda.pdf;FMTTYPE=appl
 ication/pdf:https://campussuite-storage.s3.amazonaws.com/prod/1558866/cd6b
 4858-ea96-11e9-8f58-0a20d2c7fac4/2879377/b786f34a-a1ff-11ef-9c17-023d3d295
 d83/file/2024-11-21 - Greyhawk Landing CDD - Agenda.pdf
END:VEVENT
END:VCALENDAR
