BEGIN:VCALENDAR
VERSION:2.0
PRODID:SchoolNow
CALSCALE:GREGORIAN
BEGIN:VEVENT
UID:e36dc1dc-6b9a-11ef-9910-0ebe6c19ea77
DTSTAMP:20241017T201847Z
SUMMARY:CDD Board Meeting - Oct. 2024
LOCATION:Greyhawk Landing Clubhouse\, 12350 Mulberry Avenue Bradenton\, FL 
 34212\, United States
URL;VALUE=URI:https://www.greyhawkcdd.org/calendar/6531719/cdd-board-meetin
 g-sept-2021-clone-clone-clone-clone-clone-clone-clone-clone-clone-clone-cl
 one-clone-clone-clone-clone-clone-clone-clone-clone-clone-clone-clone-clon
 e-clone-clone-clone-clone-clone-clone-clone-clone-clone-clone
DTSTART:20241024T220000Z
DTEND:20241025T000000Z
ATTACH;FILENAME=2024-10-24 - Greyhawk Landing CDD - Agenda.pdf;FMTTYPE=appl
 ication/pdf:https://campussuite-storage.s3.amazonaws.com/prod/1558866/cd6b
 4858-ea96-11e9-8f58-0a20d2c7fac4/2864714/fe537cae-8cb4-11ef-83c0-0afffc655
 fcb/file/2024-10-24 - Greyhawk Landing CDD - Agenda.pdf
END:VEVENT
END:VCALENDAR
