BEGIN:VCALENDAR
VERSION:2.0
PRODID:SchoolNow
CALSCALE:GREGORIAN
BEGIN:VEVENT
UID:9d2359f2-4abc-11ef-a476-0affec7e193d
DTSTAMP:20240725T194710Z
SUMMARY:CDD Board Meeting - July 2024
URL;VALUE=URI:https://www.greyhawkcdd.org/calendar/6309541/cdd-board-meetin
 g-july-2024
DTSTART:20240725T220000Z
DTEND:20240725T233000Z
ATTACH;FILENAME=2024-07-25 - Greyhawk Landing CDD - Agenda.pdf;FMTTYPE=appl
 ication/pdf:https://campussuite-storage.s3.amazonaws.com/prod/1558866/cd6b
 4858-ea96-11e9-8f58-0a20d2c7fac4/2819951/2a8bfaee-4534-11ef-9017-0e5bca432
 4e1/file/2024-07-25 - Greyhawk Landing CDD - Agenda.pdf
END:VEVENT
END:VCALENDAR
