BEGIN:VCALENDAR
VERSION:2.0
PRODID:SchoolNow
CALSCALE:GREGORIAN
BEGIN:VEVENT
UID:a6836a4c-fb3d-11ee-a1da-02d5d4e72311
DTSTAMP:20240425T173235Z
SUMMARY:Greyhawk Landing CDD - Budget Workshop
LOCATION:Greyhawk Landing Clubhouse located at 12350 Mulberry Avenue\, Brad
 enton\, FL 34212
URL;VALUE=URI:https://www.greyhawkcdd.org/calendar/5788923/greyhawk-landing
 -cdd-budget-workshop
DTSTART:20240425T210000Z
DTEND:20240425T220000Z
END:VEVENT
END:VCALENDAR
