BEGIN:VCALENDAR
VERSION:2.0
PRODID:SchoolNow
CALSCALE:GREGORIAN
BEGIN:VEVENT
UID:c1e2bfcc-45df-11ee-b73d-0a58a9feac02
DTSTAMP:20240925T155756Z
SUMMARY:CDD Board Meeting - September 2024 - Rescheduled
LOCATION:Greyhawk Landing Clubhouse\, 12350 Mulberry Avenue Bradenton\, FL 
 34212\, United States
URL;VALUE=URI:https://www.greyhawkcdd.org/calendar/4643748/cdd-board-meetin
 g-sept-2021-clone-clone-clone-clone-clone-clone-clone-clone-clone-clone-cl
 one-clone-clone-clone-clone-clone-clone-clone-clone-clone-clone-clone-clon
 e-clone-clone-clone-clone-clone-clone-clone-clone-clone
DTSTART:20240926T220000Z
DTEND:20240927T000000Z
ATTACH;FILENAME=2024-09-26 - Greyhawk Landing CDD - Agenda Revised.pdf;FMTT
 YPE=application/pdf:https://campussuite-storage.s3.amazonaws.com/prod/1558
 866/cd6b4858-ea96-11e9-8f58-0a20d2c7fac4/2851027/ba8c03be-79e1-11ef-9023-0
 a58a9feac02/file/2024-09-26 - Greyhawk Landing CDD - Agenda Revised.pdf
END:VEVENT
END:VCALENDAR
