BEGIN:VCALENDAR
VERSION:2.0
PRODID:SchoolNow
CALSCALE:GREGORIAN
BEGIN:VEVENT
UID:9c3e1ae6-45df-11ee-884e-0a58a9feac02
DTSTAMP:20240819T153332Z
SUMMARY:CDD Board Meeting - August 2024 (See event details for Microsoft Te
 am info)
LOCATION:Greyhawk Landing Clubhouse\, 12350 Mulberry Avenue Bradenton\, FL 
 34212\, United States.
URL;VALUE=URI:https://www.greyhawkcdd.org/calendar/4643746/cdd-board-meetin
 g-sept-2021-clone-clone-clone-clone-clone-clone-clone-clone-clone-clone-cl
 one-clone-clone-clone-clone-clone-clone-clone-clone-clone-clone-clone-clon
 e-clone-clone-clone-clone-clone-clone-clone-clone
DTSTART:20240822T213000Z
DTEND:20240823T000000Z
ATTACH;FILENAME=2024-08-22 - Greyhawk Landing CDD - Agenda.pdf;FMTTYPE=appl
 ication/pdf:https://campussuite-storage.s3.amazonaws.com/prod/1558866/cd6b
 4858-ea96-11e9-8f58-0a20d2c7fac4/2830342/2782b566-5b43-11ef-8b96-0a58a9fea
 c02/file/2024-08-22 - Greyhawk Landing CDD - Agenda.pdf
END:VEVENT
END:VCALENDAR
