BEGIN:VCALENDAR
VERSION:2.0
PRODID:SchoolNow
CALSCALE:GREGORIAN
BEGIN:VEVENT
UID:2e1e2e5c-45df-11ee-83de-0a58a9feac02
DTSTAMP:20240520T175920Z
SUMMARY:CDD Board Meeting - May 2024
LOCATION:Greyhawk Landing Clubhouse\, 12350 Mulberry Avenue Bradenton\, FL 
 34212\, United States
URL;VALUE=URI:https://www.greyhawkcdd.org/calendar/4643742/cdd-board-meetin
 g-sept-2021-clone-clone-clone-clone-clone-clone-clone-clone-clone-clone-cl
 one-clone-clone-clone-clone-clone-clone-clone-clone-clone-clone-clone-clon
 e-clone-clone-clone-clone-clone
DTSTART:20240523T220000Z
DTEND:20240524T000000Z
ATTACH;FILENAME=2024-05-23 - Greyhawk Landing CDD - Agenda.pdf;FMTTYPE=appl
 ication/pdf:https://campussuite-storage.s3.amazonaws.com/prod/1558866/cd6b
 4858-ea96-11e9-8f58-0a20d2c7fac4/2788678/d752653c-13b2-11ef-a990-0a58a9fea
 c02/file/2024-05-23 - Greyhawk Landing CDD - Agenda.pdf
END:VEVENT
END:VCALENDAR
