BEGIN:VCALENDAR
VERSION:2.0
PRODID:SchoolNow
CALSCALE:GREGORIAN
BEGIN:VEVENT
UID:185f84ee-45df-11ee-aaff-0212038e33f9
DTSTAMP:20240423T184418Z
SUMMARY:CDD Board Meeting - April 2024
LOCATION:Greyhawk Landing Clubhouse\, 12350 Mulberry Avenue Bradenton\, FL 
 34212\, United States
URL;VALUE=URI:https://www.greyhawkcdd.org/calendar/4643741/cdd-board-meetin
 g-sept-2021-clone-clone-clone-clone-clone-clone-clone-clone-clone-clone-cl
 one-clone-clone-clone-clone-clone-clone-clone-clone-clone-clone-clone-clon
 e-clone-clone-clone-clone
DTSTART:20240425T220000Z
DTEND:20240426T000000Z
ATTACH;FILENAME=2024-04-25 - Greyhawk Landing CDD - Agenda.pdf;FMTTYPE=appl
 ication/pdf:https://campussuite-storage.s3.amazonaws.com/prod/1558866/cd6b
 4858-ea96-11e9-8f58-0a20d2c7fac4/2773183/b1afde8c-fdb3-11ee-83d7-0a58a9fea
 c02/file/2024-04-25 - Greyhawk Landing CDD - Agenda.pdf
END:VEVENT
END:VCALENDAR
