BEGIN:VCALENDAR
VERSION:2.0
PRODID:SchoolNow
CALSCALE:GREGORIAN
BEGIN:VEVENT
UID:ee965e6c-45de-11ee-a882-0a58a9feac02
DTSTAMP:20240322T154536Z
SUMMARY:CDD Board Meeting - March 2024
LOCATION:Greyhawk Landing Clubhouse\, 12350 Mulberry Avenue Bradenton\, FL 
 34212\, United States
URL;VALUE=URI:https://www.greyhawkcdd.org/calendar/4643740/cdd-board-meetin
 g-sept-2021-clone-clone-clone-clone-clone-clone-clone-clone-clone-clone-cl
 one-clone-clone-clone-clone-clone-clone-clone-clone-clone-clone-clone-clon
 e-clone-clone-clone
DTSTART:20240328T220000Z
DTEND:20240329T000000Z
ATTACH;FILENAME=2024-03-28 - Greyhawk Landing CDD - Agenda.pdf;FMTTYPE=appl
 ication/pdf:https://campussuite-storage.s3.amazonaws.com/prod/1558866/cd6b
 4858-ea96-11e9-8f58-0a20d2c7fac4/2760511/432a5e44-e6eb-11ee-9a22-0e695eae0
 d93/file/2024-03-28 - Greyhawk Landing CDD - Agenda.pdf
END:VEVENT
END:VCALENDAR
