BEGIN:VCALENDAR
VERSION:2.0
PRODID:SchoolNow
CALSCALE:GREGORIAN
BEGIN:VEVENT
UID:cd4222c8-45de-11ee-9364-0a58a9feac02
DTSTAMP:20240215T155327Z
SUMMARY:CDD Board Meeting - February 2024
LOCATION:Greyhawk Landing Clubhouse\, 12350 Mulberry Avenue Bradenton\, FL 
 34212\, United States
URL;VALUE=URI:https://www.greyhawkcdd.org/calendar/4643719/cdd-board-meetin
 g-sept-2021-clone-clone-clone-clone-clone-clone-clone-clone-clone-clone-cl
 one-clone-clone-clone-clone-clone-clone-clone-clone-clone-clone-clone-clon
 e-clone-clone
DTSTART:20240222T230000Z
DTEND:20240223T010000Z
ATTACH;FILENAME=2024-02-22 - Greyhawk Landing CDD - Agenda - Revised.pdf;FM
 TTYPE=application/pdf:https://campussuite-storage.s3.amazonaws.com/prod/15
 58866/cd6b4858-ea96-11e9-8f58-0a20d2c7fac4/2742794/49576ac8-cc1a-11ee-9cfb
 -0a58a9feac02/file/2024-02-22 - Greyhawk Landing CDD - Agenda - Revised.pd
 f
END:VEVENT
END:VCALENDAR
