BEGIN:VCALENDAR
VERSION:2.0
PRODID:SchoolNow
CALSCALE:GREGORIAN
BEGIN:VEVENT
UID:07f77764-45db-11ee-88c2-0a58a9feac02
DTSTAMP:20231024T145144Z
SUMMARY:CDD Board Meeting - October 2023
LOCATION:Greyhawk Landing Clubhouse\, 12350 Mulberry Avenue Bradenton\, FL 
 34212\, United States
URL;VALUE=URI:https://www.greyhawkcdd.org/calendar/4643696/cdd-board-meetin
 g-sept-2021-clone-clone-clone-clone-clone-clone-clone-clone-clone-clone-cl
 one-clone-clone-clone-clone-clone-clone-clone-clone-clone-clone-clone-clon
 e-clone
DTSTART:20231026T220000Z
DTEND:20231027T000000Z
ATTACH;FILENAME=2023-10-26 - Greyhawk Landing CDD - Agenda.pdf;FMTTYPE=appl
 ication/pdf:https://campussuite-storage.s3.amazonaws.com/prod/1558866/cd6b
 4858-ea96-11e9-8f58-0a20d2c7fac4/2683589/10ba3ee8-6eaf-11ee-b936-0a58a9fea
 c02/file/2023-10-26 - Greyhawk Landing CDD - Agenda.pdf
END:VEVENT
END:VCALENDAR
