BEGIN:VCALENDAR
VERSION:2.0
PRODID:SchoolNow
CALSCALE:GREGORIAN
BEGIN:VEVENT
UID:72023ce4-45da-11ee-ada2-0a58a9feac02
DTSTAMP:20231109T193323Z
SUMMARY:CDD Board Meeting - November 2023
LOCATION:Greyhawk Landing Clubhouse\, 12350 Mulberry Avenue Bradenton\, FL 
 34212\, United States
URL;VALUE=URI:https://www.greyhawkcdd.org/calendar/4643690/cdd-board-meetin
 g-sept-2021-clone-clone-clone-clone-clone-clone-clone-clone-clone-clone-cl
 one-clone-clone-clone-clone-clone-clone-clone-clone-clone-clone-clone-clon
 e-clone
DTSTART:20231116T230000Z
DTEND:20231117T010000Z
ATTACH;FILENAME=2023-11-16 - Greyhawk Landing CDD - Agenda..pdf;FMTTYPE=app
 lication/pdf:https://campussuite-storage.s3.amazonaws.com/prod/1558866/cd6
 b4858-ea96-11e9-8f58-0a20d2c7fac4/2697784/b19c3792-7e79-11ee-8a5a-0afe9834
 7889/file/2023-11-16 - Greyhawk Landing CDD - Agenda..pdf
END:VEVENT
END:VCALENDAR
