BEGIN:VCALENDAR
VERSION:2.0
PRODID:SchoolNow
CALSCALE:GREGORIAN
BEGIN:VEVENT
UID:f32d88be-eff9-11ed-bf9a-0a6d6d9cba31
DTSTAMP:20230511T124712Z
SUMMARY:CDD Budget Workshop
LOCATION:Greyhawk Landing Clubhouse\, 12350 Mulberry Avenue Bradenton\, FL 
 34212\, United States
URL;VALUE=URI:https://www.greyhawkcdd.org/calendar/4223123/cdd-board-meetin
 g-sept-2021-clone-clone-clone-clone-clone-clone-clone-clone-clone-clone-cl
 one-clone-clone-clone-clone-clone-clone-clone-clone-clone
DTSTART:20230525T203000Z
DTEND:20230525T223000Z
END:VEVENT
END:VCALENDAR
