BEGIN:VCALENDAR
VERSION:2.0
PRODID:SchoolNow
CALSCALE:GREGORIAN
BEGIN:VEVENT
UID:7420073c-27cb-11ed-b578-0a5fb160c8fb
DTSTAMP:20230921T193744Z
SUMMARY:CDD Board Meeting - Sept. 2023
LOCATION:Greyhawk Landing Clubhouse\, 12350 Mulberry Avenue Bradenton\, FL 
 34212\, United States
URL;VALUE=URI:https://www.greyhawkcdd.org/calendar/3313598/cdd-board-meetin
 g-sept-2021-clone-clone-clone-clone-clone-clone-clone-clone-clone-clone-cl
 one-clone-clone-clone-clone-clone-clone-clone-clone-clone-clone-clone-clon
 e
DTSTART:20230928T220000Z
DTEND:20230929T000000Z
ATTACH;FILENAME=2023-09-28 - Greyhawk Landing CDD - Agenda.pdf;FMTTYPE=appl
 ication/pdf:https://campussuite-storage.s3.amazonaws.com/prod/1558866/cd6b
 4858-ea96-11e9-8f58-0a20d2c7fac4/2665803/27eb8702-589d-11ee-86d1-0a58a9fea
 c02/file/2023-09-28 - Greyhawk Landing CDD - Agenda.pdf
END:VEVENT
END:VCALENDAR
