BEGIN:VCALENDAR
VERSION:2.0
PRODID:SchoolNow
CALSCALE:GREGORIAN
BEGIN:VEVENT
UID:666ad702-27cb-11ed-a791-0a5fb160c8fb
DTSTAMP:20230817T142339Z
SUMMARY:CDD Board Meeting - Aug. 2023
LOCATION:Greyhawk Landing Clubhouse\, 12350 Mulberry Avenue Bradenton\, FL 
 34212\, United States
URL;VALUE=URI:https://www.greyhawkcdd.org/calendar/3313585/cdd-board-meetin
 g-sept-2021-clone-clone-clone-clone-clone-clone-clone-clone-clone-clone-cl
 one-clone-clone-clone-clone-clone-clone-clone-clone-clone-clone-clone
DTSTART:20230824T213000Z
DTEND:20230824T233000Z
ATTACH;FILENAME=2023-08-24 - Greyhawk Landing CDD - Agenda.pdf;FMTTYPE=appl
 ication/pdf:https://campussuite-storage.s3.amazonaws.com/prod/1558866/cd6b
 4858-ea96-11e9-8f58-0a20d2c7fac4/2643922/900ed240-3c72-11ee-a418-026259b66
 5e5/file/2023-08-24 - Greyhawk Landing CDD - Agenda.pdf
END:VEVENT
END:VCALENDAR
