BEGIN:VCALENDAR
VERSION:2.0
PRODID:SchoolNow
CALSCALE:GREGORIAN
BEGIN:VEVENT
UID:5bd08f6c-27cb-11ed-8154-0a5fb160c8fb
DTSTAMP:20230720T194241Z
SUMMARY:CDD Board Meeting - Jul. 2023
LOCATION:Greyhawk Landing Clubhouse\, 12350 Mulberry Avenue Bradenton\, FL 
 34212\, United States
URL;VALUE=URI:https://www.greyhawkcdd.org/calendar/3313584/cdd-board-meetin
 g-sept-2021-clone-clone-clone-clone-clone-clone-clone-clone-clone-clone-cl
 one-clone-clone-clone-clone-clone-clone-clone-clone-clone-clone
DTSTART:20230727T220000Z
DTEND:20230728T000000Z
ATTACH;FILENAME=2023-07-27 - Greyhawk Landing CDD - Agenda.pdf;FMTTYPE=appl
 ication/pdf:https://campussuite-storage.s3.amazonaws.com/prod/1558866/cd6b
 4858-ea96-11e9-8f58-0a20d2c7fac4/2632293/88a5fb2a-2735-11ee-94f0-029af40bd
 955/file/2023-07-27 - Greyhawk Landing CDD - Agenda.pdf
END:VEVENT
END:VCALENDAR
