BEGIN:VCALENDAR
VERSION:2.0
PRODID:SchoolNow
CALSCALE:GREGORIAN
BEGIN:VEVENT
UID:5197f4ae-27cb-11ed-9825-0a5fb160c8fb
DTSTAMP:20230621T135207Z
SUMMARY:CDD Board Meeting - Jun. 2023
LOCATION:Greyhawk Landing Clubhouse\, 12350 Mulberry Avenue Bradenton\, FL 
 34212\, United States
URL;VALUE=URI:https://www.greyhawkcdd.org/calendar/3313581/cdd-board-meetin
 g-sept-2021-clone-clone-clone-clone-clone-clone-clone-clone-clone-clone-cl
 one-clone-clone-clone-clone-clone-clone-clone-clone-clone
DTSTART:20230622T220000Z
DTEND:20230623T000000Z
ATTACH;FILENAME=2023-06-22 - Greyhawk Landing CDD - Agenda.pdf;FMTTYPE=appl
 ication/pdf:https://campussuite-storage.s3.amazonaws.com/prod/1558866/cd6b
 4858-ea96-11e9-8f58-0a20d2c7fac4/2615453/8a1afd92-0bbb-11ee-a028-02dd0c895
 835/file/2023-06-22 - Greyhawk Landing CDD - Agenda.pdf
END:VEVENT
END:VCALENDAR
