BEGIN:VCALENDAR
VERSION:2.0
PRODID:SchoolNow
CALSCALE:GREGORIAN
BEGIN:VEVENT
UID:388ac1d0-27cb-11ed-af48-0a5fb160c8fb
DTSTAMP:20230425T163611Z
SUMMARY:CDD Board Meeting - Apr. 2023
LOCATION:Greyhawk Landing Clubhouse\, 12350 Mulberry Avenue Bradenton\, FL 
 34212\, United States
URL;VALUE=URI:https://www.greyhawkcdd.org/calendar/3313579/cdd-board-meetin
 g-sept-2021-clone-clone-clone-clone-clone-clone-clone-clone-clone-clone-cl
 one-clone-clone-clone-clone-clone-clone-clone
DTSTART:20230427T220000Z
DTEND:20230428T000000Z
ATTACH;FILENAME=2023-04-27 - Greyhawk Landing CDD - Agenda - AC.pdf;FMTTYPE
 =application/pdf:https://campussuite-storage.s3.amazonaws.com/prod/1558866
 /cd6b4858-ea96-11e9-8f58-0a20d2c7fac4/2582142/7d7c8af8-dfa9-11ed-930c-0ea4
 d28fa7d3/file/2023-04-27 - Greyhawk Landing CDD - Agenda - AC.pdf
ATTACH;FILENAME=2023-04-27 - Greyhawk Landing CDD - Agenda.pdf;FMTTYPE=appl
 ication/pdf:https://campussuite-storage.s3.amazonaws.com/prod/1558866/cd6b
 4858-ea96-11e9-8f58-0a20d2c7fac4/2582143/8c4e2028-dfa9-11ed-a68d-0ea4d28fa
 7d3/file/2023-04-27 - Greyhawk Landing CDD - Agenda.pdf
END:VEVENT
END:VCALENDAR
