BEGIN:VCALENDAR
VERSION:2.0
PRODID:SchoolNow
CALSCALE:GREGORIAN
BEGIN:VEVENT
UID:2c033abe-27cb-11ed-9634-0a5fb160c8fb
DTSTAMP:20230321T124806Z
SUMMARY:CDD Board Meeting - Mar. 2023
LOCATION:Greyhawk Landing Clubhouse\, 12350 Mulberry Avenue Bradenton\, FL 
 34212\, United States
URL;VALUE=URI:https://www.greyhawkcdd.org/calendar/3313533/cdd-board-meetin
 g-sept-2021-clone-clone-clone-clone-clone-clone-clone-clone-clone-clone-cl
 one-clone-clone-clone-clone-clone-clone
DTSTART:20230323T220000Z
DTEND:20230324T000000Z
ATTACH;FILENAME=2023-03-23 - Greyhawk Landing CDD - Agenda.pdf;FMTTYPE=appl
 ication/pdf:https://campussuite-storage.s3.amazonaws.com/prod/1558866/cd6b
 4858-ea96-11e9-8f58-0a20d2c7fac4/2567985/dc5fa8d4-c438-11ed-871c-0eea2e3c5
 1d7/file/2023-03-23 - Greyhawk Landing CDD - Agenda.pdf
END:VEVENT
END:VCALENDAR
