BEGIN:VCALENDAR
VERSION:2.0
PRODID:SchoolNow
CALSCALE:GREGORIAN
BEGIN:VEVENT
UID:137dc96e-27cb-11ed-8e16-0a5fb160c8fb
DTSTAMP:20230119T210647Z
SUMMARY:CDD Board Meeting - Jan. 2023
LOCATION:Greyhawk Landing Clubhouse\, 12350 Mulberry Avenue Bradenton\, FL 
 34212\, United States
URL;VALUE=URI:https://www.greyhawkcdd.org/calendar/3313530/cdd-board-meetin
 g-sept-2021-clone-clone-clone-clone-clone-clone-clone-clone-clone-clone-cl
 one-clone-clone-clone-clone-clone
DTSTART:20230126T230000Z
DTEND:20230127T010000Z
ATTACH;FILENAME=2023-01-26 - Greyhawk Landing CDD - Agenda - Revised.pdf;FM
 TTYPE=application/pdf:https://campussuite-storage.s3.amazonaws.com/prod/15
 58866/cd6b4858-ea96-11e9-8f58-0a20d2c7fac4/2538676/25b9cd7a-983d-11ed-b2ff
 -0e545d18e21d/file/2023-01-26 - Greyhawk Landing CDD - Agenda - Revised.pd
 f
END:VEVENT
END:VCALENDAR
