BEGIN:VCALENDAR
VERSION:2.0
PRODID:SchoolNow
CALSCALE:GREGORIAN
BEGIN:VEVENT
UID:030c6676-27cb-11ed-85b6-0a5fb160c8fb
DTSTAMP:20221213T184217Z
SUMMARY:CDD Board Meeting - Dec. 2022
LOCATION:Greyhawk Landing Clubhouse\, 12350 Mulberry Avenue Bradenton\, FL 
 34212\, United States
URL;VALUE=URI:https://www.greyhawkcdd.org/calendar/3313461/cdd-board-meetin
 g-sept-2021-clone-clone-clone-clone-clone-clone-clone-clone-clone-clone-cl
 one-clone-clone-clone-clone
DTSTART:20221215T230000Z
DTEND:20221216T010000Z
ATTACH;FILENAME=2022-12-15 - Greyhawk Landing CDD - Agenda.pdf;FMTTYPE=appl
 ication/pdf:https://campussuite-storage.s3.amazonaws.com/prod/1558866/cd6b
 4858-ea96-11e9-8f58-0a20d2c7fac4/2523312/5e3d7ab6-7736-11ed-8f6f-02a05e2cc
 e29/file/2022-12-15 - Greyhawk Landing CDD - Agenda.pdf
END:VEVENT
END:VCALENDAR
