BEGIN:VCALENDAR
VERSION:2.0
PRODID:SchoolNow
CALSCALE:GREGORIAN
BEGIN:VEVENT
UID:f9839f3e-27ca-11ed-979a-0a5fb160c8fb
DTSTAMP:20221115T191044Z
SUMMARY:CDD Board Meeting - Nov. 2022
LOCATION:Greyhawk Landing Clubhouse\, 12350 Mulberry Avenue Bradenton\, FL 
 34212\, United States
URL;VALUE=URI:https://www.greyhawkcdd.org/calendar/3313460/cdd-board-meetin
 g-sept-2021-clone-clone-clone-clone-clone-clone-clone-clone-clone-clone-cl
 one-clone-clone-clone
DTSTART:20221117T230000Z
DTEND:20221118T010000Z
ATTACH;FILENAME=2022-11-17 - Greyhawk Landing CDD - Agenda.pdf;FMTTYPE=appl
 ication/pdf:https://campussuite-storage.s3.amazonaws.com/prod/1558866/cd6b
 4858-ea96-11e9-8f58-0a20d2c7fac4/2507932/3a9577d4-6139-11ed-b39d-02eb123bf
 783/file/2022-11-17 - Greyhawk Landing CDD - Agenda.pdf
END:VEVENT
END:VCALENDAR
