BEGIN:VCALENDAR
VERSION:2.0
PRODID:SchoolNow
CALSCALE:GREGORIAN
BEGIN:VEVENT
UID:eb7ed458-27ca-11ed-9b89-0a5fb160c8fb
DTSTAMP:20221018T123131Z
SUMMARY:CDD Board Meeting - Oct. 2022
LOCATION:Greyhawk Landing Clubhouse\, 12350 Mulberry Avenue Bradenton\, FL 
 34212\, United States
URL;VALUE=URI:https://www.greyhawkcdd.org/calendar/3313455/cdd-board-meetin
 g-sept-2021-clone-clone-clone-clone-clone-clone-clone-clone-clone-clone-cl
 one-clone-clone
DTSTART:20221020T220000Z
DTEND:20221021T000000Z
ATTACH;FILENAME=2022-10-20 - Greyhawk Landing CDD - Agenda.pdf;FMTTYPE=appl
 ication/pdf:https://campussuite-storage.s3.amazonaws.com/prod/1558866/cd6b
 4858-ea96-11e9-8f58-0a20d2c7fac4/2491306/6cdae954-4b22-11ed-b8b8-0ede30290
 459/file/2022-10-20 - Greyhawk Landing CDD - Agenda.pdf
END:VEVENT
END:VCALENDAR
