BEGIN:VCALENDAR
VERSION:2.0
PRODID:SchoolNow
CALSCALE:GREGORIAN
BEGIN:VEVENT
UID:06eaa440-2166-11ec-a4e6-028e7c8b1ff3
DTSTAMP:20210929T204422Z
SUMMARY:CDD Board Workshop - Oct. 2021
LOCATION:Greyhawk Landing Clubhouse\, 12350 Mulberry Avenue Bradenton\, FL 
 34212\, United States
URL;VALUE=URI:https://www.greyhawkcdd.org/calendar/2777951/cdd-board-meetin
 g-sept-2021-clone-clone
DTSTART:20211027T210000Z
DTEND:20211027T230000Z
END:VEVENT
END:VCALENDAR
