BEGIN:VCALENDAR
VERSION:2.0
PRODID:SchoolNow
CALSCALE:GREGORIAN
BEGIN:VEVENT
UID:4905a4ea-1718-11ec-b945-0a7aebb004d7
DTSTAMP:20220916T192211Z
SUMMARY:CDD Board Meeting - Sept. 2022
LOCATION:Greyhawk Landing Clubhouse\, 12350 Mulberry Avenue Bradenton\, FL 
 34212\, United States
URL;VALUE=URI:https://www.greyhawkcdd.org/calendar/2741643/cdd-board-meetin
 g-sept-2021-clone-clone-clone-clone-clone-clone-clone-clone-clone-clone-cl
 one-clone
DTSTART:20220922T220000Z
DTEND:20220923T000000Z
ATTACH;FILENAME=;FMTTYPE=application/octet-stream:
END:VEVENT
END:VCALENDAR
