BEGIN:VCALENDAR
VERSION:2.0
PRODID:SchoolNow
CALSCALE:GREGORIAN
BEGIN:VEVENT
UID:2fcae18e-1718-11ec-8f11-0a7aebb004d7
DTSTAMP:20220621T115952Z
SUMMARY:CDD Board Meeting - Jun. 2022
LOCATION:Greyhawk Landing Clubhouse\, 12350 Mulberry Avenue Bradenton\, FL 
 34212\, United States
URL;VALUE=URI:https://www.greyhawkcdd.org/calendar/2741639/cdd-board-meetin
 g-sept-2021-clone-clone-clone-clone-clone-clone-clone-clone-clone
DTSTART:20220623T220000Z
DTEND:20220624T000000Z
ATTACH;FILENAME=;FMTTYPE=application/octet-stream:
END:VEVENT
END:VCALENDAR
