BEGIN:VCALENDAR
VERSION:2.0
PRODID:SchoolNow
CALSCALE:GREGORIAN
BEGIN:VEVENT
UID:02ac4ada-1718-11ec-8413-0a7aebb004d7
DTSTAMP:20220121T205807Z
SUMMARY:CDD Board Meeting - Jan. 2022
LOCATION:Greyhawk Landing Clubhouse\, 12350 Mulberry Avenue Bradenton\, FL 
 34212\, United States
URL;VALUE=URI:https://www.greyhawkcdd.org/calendar/2741633/cdd-board-meetin
 g-sept-2021-clone-clone-clone-clone
DTSTART:20220126T230000Z
DTEND:20220127T010000Z
ATTACH;FILENAME=;FMTTYPE=application/octet-stream:
END:VEVENT
END:VCALENDAR
