BEGIN:VCALENDAR
VERSION:2.0
PRODID:SchoolNow
CALSCALE:GREGORIAN
BEGIN:VEVENT
UID:f8c0f822-1717-11ec-be49-0a7aebb004d7
DTSTAMP:20211215T161751Z
SUMMARY:CDD Board Meeting - Dec. 2021
LOCATION:Greyhawk Landing Clubhouse\, 12350 Mulberry Avenue Bradenton\, FL 
 34212\, United States
URL;VALUE=URI:https://www.greyhawkcdd.org/calendar/2741632/cdd-board-meetin
 g-sept-2021-clone-clone-clone
DTSTART:20211216T230000Z
DTEND:20211217T010000Z
ATTACH;FILENAME=;FMTTYPE=application/octet-stream:
END:VEVENT
END:VCALENDAR
