BEGIN:VCALENDAR
VERSION:2.0
PRODID:SchoolNow
CALSCALE:GREGORIAN
BEGIN:VEVENT
UID:efa3c83c-1717-11ec-b87b-0a7aebb004d7
DTSTAMP:20211115T145659Z
SUMMARY:CDD Board Meeting - Nov. 2021
LOCATION:Greyhawk Landing Clubhouse\, 12350 Mulberry Avenue Bradenton\, FL 
 34212\, United States
URL;VALUE=URI:https://www.greyhawkcdd.org/calendar/2741625/cdd-board-meetin
 g-sept-2021-clone-clone
DTSTART:20211118T230000Z
DTEND:20211119T010000Z
ATTACH;FILENAME=;FMTTYPE=application/octet-stream:
END:VEVENT
END:VCALENDAR
