BEGIN:VCALENDAR
VERSION:2.0
PRODID:SchoolNow
CALSCALE:GREGORIAN
BEGIN:VEVENT
UID:e52f28c4-1717-11ec-b05b-0a7aebb004d7
DTSTAMP:20211020T205443Z
SUMMARY:CDD Board Meeting - Oct. 2021
LOCATION:Greyhawk Landing Clubhouse\, 12350 Mulberry Avenue Bradenton\, FL 
 34212\, United States
URL;VALUE=URI:https://www.greyhawkcdd.org/calendar/2741618/cdd-board-meetin
 g-sept-2021-clone
DTSTART:20211027T220000Z
DTEND:20211028T000000Z
ATTACH;FILENAME=;FMTTYPE=application/octet-stream:
END:VEVENT
END:VCALENDAR
