BEGIN:VCALENDAR
VERSION:2.0
PRODID:SchoolNow
CALSCALE:GREGORIAN
BEGIN:VEVENT
UID:c68e9e48-a6a8-11eb-8d2e-0a41b9e7b61f
DTSTAMP:20210426T160218Z
SUMMARY:CDD Budget Workshop
LOCATION:Greyhawk Landing Clubhouse\, 12350 Mulberry Avenue Bradenton\, FL 
 34212\, United States
URL;VALUE=URI:https://www.greyhawkcdd.org/calendar/2586599/cdd-board-meetin
 g-may-2021-clone
DTSTART:20210520T200000Z
DTEND:20210520T220000Z
END:VEVENT
END:VCALENDAR
