BEGIN:VCALENDAR
VERSION:2.0
PRODID:SchoolNow
CALSCALE:GREGORIAN
BEGIN:VEVENT
UID:01afc23a-ec8d-11ea-a464-12a3692380c5
DTSTAMP:20210820T052132Z
SUMMARY:CDD Board Meeting - Aug. 2021
LOCATION:Greyhawk Landing Clubhouse\, 12350 Mulberry Avenue Bradenton\, FL 
 34212\, United States
URL;VALUE=URI:https://www.greyhawkcdd.org/calendar/2330952/cdd-board-meetin
 g-aug-2021
DTSTART:20210826T213000Z
DTEND:20210826T233000Z
ATTACH;FILENAME=;FMTTYPE=application/octet-stream:
END:VEVENT
END:VCALENDAR
