BEGIN:VCALENDAR
VERSION:2.0
PRODID:SchoolNow
CALSCALE:GREGORIAN
BEGIN:VEVENT
UID:f48581e4-ec8c-11ea-8012-12a3692380c5
DTSTAMP:20210719T214459Z
SUMMARY:CDD Board Meeting - Jul. 2021
LOCATION:Zoom Meeting  https://us06web.zoom.us/j/86444055116?pwd=NlRYQjZkNV
 VDRk1EMnpYTDhmWitUdz09     Meeting ID: 864 4405 5116  Passcode: 818512
URL;VALUE=URI:https://www.greyhawkcdd.org/calendar/2330951/cdd-board-meetin
 g-jul-2021
DTSTART:20210722T220000Z
DTEND:20210723T000000Z
ATTACH;FILENAME=;FMTTYPE=application/octet-stream:
END:VEVENT
END:VCALENDAR
