BEGIN:VCALENDAR
VERSION:2.0
PRODID:SchoolNow
CALSCALE:GREGORIAN
BEGIN:VEVENT
UID:e64617ba-ec8c-11ea-be6a-12a3692380c5
DTSTAMP:20210617T124259Z
SUMMARY:CDD Board Meeting - Jun. 2021
LOCATION:Greyhawk Landing Clubhouse\, 12350 Mulberry Avenue Bradenton\, FL 
 34212\, United States
URL;VALUE=URI:https://www.greyhawkcdd.org/calendar/2330950/cdd-board-meetin
 g-jun-2021
DTSTART:20210624T220000Z
DTEND:20210625T000000Z
ATTACH;FILENAME=;FMTTYPE=application/octet-stream:
END:VEVENT
END:VCALENDAR
