BEGIN:VCALENDAR
VERSION:2.0
PRODID:SchoolNow
CALSCALE:GREGORIAN
BEGIN:VEVENT
UID:d907ebe6-ec8c-11ea-8fe8-12a3692380c5
DTSTAMP:20210518T170214Z
SUMMARY:CDD Board Meeting - May 2021
LOCATION:Greyhawk Landing Clubhouse\, 12350 Mulberry Avenue Bradenton\, FL 
 34212\, United States
URL;VALUE=URI:https://www.greyhawkcdd.org/calendar/2330949/cdd-board-meetin
 g-may-2021
DTSTART:20210520T220000Z
DTEND:20210521T000000Z
ATTACH;FILENAME=;FMTTYPE=application/octet-stream:
END:VEVENT
END:VCALENDAR
