BEGIN:VCALENDAR
VERSION:2.0
PRODID:SchoolNow
CALSCALE:GREGORIAN
BEGIN:VEVENT
UID:c8608adc-ec8c-11ea-a398-12a3692380c5
DTSTAMP:20210415T205815Z
SUMMARY:CDD Board Meeting - Apr. 2021
LOCATION:Greyhawk Landing Clubhouse\, 12350 Mulberry Avenue Bradenton\, FL 
 34212\, United States
URL;VALUE=URI:https://www.greyhawkcdd.org/calendar/2330948/cdd-board-meetin
 g-apr-2021
DTSTART:20210422T220000Z
DTEND:20210423T000000Z
ATTACH;FILENAME=;FMTTYPE=application/octet-stream:
END:VEVENT
END:VCALENDAR
