BEGIN:VCALENDAR
VERSION:2.0
PRODID:SchoolNow
CALSCALE:GREGORIAN
BEGIN:VEVENT
UID:acb8bf2a-ec8c-11ea-89f5-12a3692380c5
DTSTAMP:20201119T142028Z
SUMMARY:CDD Board Meeting - Mar. 2021
LOCATION:Greyhawk Landing Clubhouse\, 12350 Mulberry Avenue Bradenton\, FL 
 34212\, United States
URL;VALUE=URI:https://www.greyhawkcdd.org/calendar/2330947/cdd-board-meetin
 g-mar-2021
DTSTART:20210325T220000Z
DTEND:20210326T000000Z
END:VEVENT
END:VCALENDAR
